BEGIN:VCALENDAR
VERSION:2.0
PRODID:-//Bodø Fotoklubb - ECPv6.15.20//NONSGML v1.0//EN
CALSCALE:GREGORIAN
METHOD:PUBLISH
X-WR-CALNAME:Bodø Fotoklubb
X-ORIGINAL-URL:https://bofk.no
X-WR-CALDESC:Arrangement for Bodø Fotoklubb
REFRESH-INTERVAL;VALUE=DURATION:PT1H
X-Robots-Tag:noindex
X-PUBLISHED-TTL:PT1H
BEGIN:VTIMEZONE
TZID:Europe/Oslo
BEGIN:DAYLIGHT
TZOFFSETFROM:+0100
TZOFFSETTO:+0200
TZNAME:CEST
DTSTART:20220327T010000
END:DAYLIGHT
BEGIN:STANDARD
TZOFFSETFROM:+0200
TZOFFSETTO:+0100
TZNAME:CET
DTSTART:20221030T010000
END:STANDARD
BEGIN:DAYLIGHT
TZOFFSETFROM:+0100
TZOFFSETTO:+0200
TZNAME:CEST
DTSTART:20230326T010000
END:DAYLIGHT
BEGIN:STANDARD
TZOFFSETFROM:+0200
TZOFFSETTO:+0100
TZNAME:CET
DTSTART:20231029T010000
END:STANDARD
BEGIN:DAYLIGHT
TZOFFSETFROM:+0100
TZOFFSETTO:+0200
TZNAME:CEST
DTSTART:20240331T010000
END:DAYLIGHT
BEGIN:STANDARD
TZOFFSETFROM:+0200
TZOFFSETTO:+0100
TZNAME:CET
DTSTART:20241027T010000
END:STANDARD
END:VTIMEZONE
BEGIN:VEVENT
DTSTART;TZID=Europe/Oslo:20230509T143000
DTEND;TZID=Europe/Oslo:20230509T180000
DTSTAMP:20260424T143653
CREATED:20230418T143458Z
LAST-MODIFIED:20230507T182747Z
UID:5218-1683642600-1683655200@bofk.no
SUMMARY:Daniel låner studioet
DESCRIPTION:
URL:https://bofk.no/event/daniel-laner-studioet/
CATEGORIES:Studio
END:VEVENT
BEGIN:VEVENT
DTSTART;TZID=Europe/Oslo:20230509T190000
DTEND;TZID=Europe/Oslo:20230509T213000
DTSTAMP:20260424T143653
CREATED:20230505T181416Z
LAST-MODIFIED:20230505T181416Z
UID:5249-1683658800-1683667800@bofk.no
SUMMARY:Kaffe og fotomøte
DESCRIPTION:Oppmøte på Egon kl. 19.00\nTa med godt humør og kamera.
URL:https://bofk.no/event/kaffe-og-fotomote/
CATEGORIES:Kaffe & Foto
END:VEVENT
END:VCALENDAR