BEGIN:VCALENDAR
VERSION:2.0
PRODID:-//Bodø Fotoklubb - ECPv6.15.20//NONSGML v1.0//EN
CALSCALE:GREGORIAN
METHOD:PUBLISH
X-ORIGINAL-URL:https://bofk.no
X-WR-CALDESC:Arrangement for Bodø Fotoklubb
REFRESH-INTERVAL;VALUE=DURATION:PT1H
X-Robots-Tag:noindex
X-PUBLISHED-TTL:PT1H
BEGIN:VTIMEZONE
TZID:Europe/Oslo
BEGIN:DAYLIGHT
TZOFFSETFROM:+0100
TZOFFSETTO:+0200
TZNAME:CEST
DTSTART:20220327T010000
END:DAYLIGHT
BEGIN:STANDARD
TZOFFSETFROM:+0200
TZOFFSETTO:+0100
TZNAME:CET
DTSTART:20221030T010000
END:STANDARD
BEGIN:DAYLIGHT
TZOFFSETFROM:+0100
TZOFFSETTO:+0200
TZNAME:CEST
DTSTART:20230326T010000
END:DAYLIGHT
BEGIN:STANDARD
TZOFFSETFROM:+0200
TZOFFSETTO:+0100
TZNAME:CET
DTSTART:20231029T010000
END:STANDARD
BEGIN:DAYLIGHT
TZOFFSETFROM:+0100
TZOFFSETTO:+0200
TZNAME:CEST
DTSTART:20240331T010000
END:DAYLIGHT
BEGIN:STANDARD
TZOFFSETFROM:+0200
TZOFFSETTO:+0100
TZNAME:CET
DTSTART:20241027T010000
END:STANDARD
END:VTIMEZONE
BEGIN:VEVENT
DTSTART;TZID=Europe/Oslo:20230531T110000
DTEND;TZID=Europe/Oslo:20230531T130000
DTSTAMP:20260424T130114
CREATED:20230531T071836Z
LAST-MODIFIED:20230531T071836Z
UID:5275-1685530800-1685538000@bofk.no
SUMMARY:Airida låner studioet
DESCRIPTION:
URL:https://bofk.no/event/airida-laner-studioet/
CATEGORIES:Studio
END:VEVENT
BEGIN:VEVENT
DTSTART;TZID=Europe/Oslo:20230531T180000
DTEND;TZID=Europe/Oslo:20230531T200000
DTSTAMP:20260424T130114
CREATED:20230529T132239Z
LAST-MODIFIED:20230529T132239Z
UID:5270-1685556000-1685563200@bofk.no
SUMMARY:Daniel låner studioet
DESCRIPTION:
URL:https://bofk.no/event/daniel-laner-studioet-4/
CATEGORIES:Studio
END:VEVENT
END:VCALENDAR