BEGIN:VCALENDAR
VERSION:2.0
PRODID:-//Bodø Fotoklubb - ECPv6.15.20//NONSGML v1.0//EN
CALSCALE:GREGORIAN
METHOD:PUBLISH
X-WR-CALNAME:Bodø Fotoklubb
X-ORIGINAL-URL:https://bofk.no
X-WR-CALDESC:Arrangement for Bodø Fotoklubb
REFRESH-INTERVAL;VALUE=DURATION:PT1H
X-Robots-Tag:noindex
X-PUBLISHED-TTL:PT1H
BEGIN:VTIMEZONE
TZID:Europe/Oslo
BEGIN:DAYLIGHT
TZOFFSETFROM:+0100
TZOFFSETTO:+0200
TZNAME:CEST
DTSTART:20220327T010000
END:DAYLIGHT
BEGIN:STANDARD
TZOFFSETFROM:+0200
TZOFFSETTO:+0100
TZNAME:CET
DTSTART:20221030T010000
END:STANDARD
BEGIN:DAYLIGHT
TZOFFSETFROM:+0100
TZOFFSETTO:+0200
TZNAME:CEST
DTSTART:20230326T010000
END:DAYLIGHT
BEGIN:STANDARD
TZOFFSETFROM:+0200
TZOFFSETTO:+0100
TZNAME:CET
DTSTART:20231029T010000
END:STANDARD
BEGIN:DAYLIGHT
TZOFFSETFROM:+0100
TZOFFSETTO:+0200
TZNAME:CEST
DTSTART:20240331T010000
END:DAYLIGHT
BEGIN:STANDARD
TZOFFSETFROM:+0200
TZOFFSETTO:+0100
TZNAME:CET
DTSTART:20241027T010000
END:STANDARD
END:VTIMEZONE
BEGIN:VEVENT
DTSTART;TZID=Europe/Oslo:20231201T150000
DTEND;TZID=Europe/Oslo:20231203T200000
DTSTAMP:20260424T044429
CREATED:20231117T143626Z
LAST-MODIFIED:20231117T143626Z
UID:5451-1701442800-1701633600@bofk.no
SUMMARY:Studioet er stengt
DESCRIPTION:Utstyret er på Julemessen på Mørkved.
URL:https://bofk.no/event/studioet-er-stengt/
CATEGORIES:Studio
END:VEVENT
BEGIN:VEVENT
DTSTART;TZID=Europe/Oslo:20231203T110000
DTEND;TZID=Europe/Oslo:20231203T170000
DTSTAMP:20260424T044429
CREATED:20230906T104009Z
LAST-MODIFIED:20230906T104009Z
UID:5335-1701601200-1701622800@bofk.no
SUMMARY:Fotografering Julemesse i Mørkvedhallen
DESCRIPTION:
URL:https://bofk.no/event/fotografering-julemesse-i-morkvedhallen-2/
CATEGORIES:Julemessen
END:VEVENT
END:VCALENDAR