BEGIN:VCALENDAR
VERSION:2.0
PRODID:-//Bodø Fotoklubb - ECPv6.15.19//NONSGML v1.0//EN
CALSCALE:GREGORIAN
METHOD:PUBLISH
X-WR-CALNAME:Bodø Fotoklubb
X-ORIGINAL-URL:https://bofk.no
X-WR-CALDESC:Arrangement for Bodø Fotoklubb
REFRESH-INTERVAL;VALUE=DURATION:PT1H
X-Robots-Tag:noindex
X-PUBLISHED-TTL:PT1H
BEGIN:VTIMEZONE
TZID:Europe/Oslo
BEGIN:DAYLIGHT
TZOFFSETFROM:+0100
TZOFFSETTO:+0200
TZNAME:CEST
DTSTART:20230326T010000
END:DAYLIGHT
BEGIN:STANDARD
TZOFFSETFROM:+0200
TZOFFSETTO:+0100
TZNAME:CET
DTSTART:20231029T010000
END:STANDARD
BEGIN:DAYLIGHT
TZOFFSETFROM:+0100
TZOFFSETTO:+0200
TZNAME:CEST
DTSTART:20240331T010000
END:DAYLIGHT
BEGIN:STANDARD
TZOFFSETFROM:+0200
TZOFFSETTO:+0100
TZNAME:CET
DTSTART:20241027T010000
END:STANDARD
BEGIN:DAYLIGHT
TZOFFSETFROM:+0100
TZOFFSETTO:+0200
TZNAME:CEST
DTSTART:20250330T010000
END:DAYLIGHT
BEGIN:STANDARD
TZOFFSETFROM:+0200
TZOFFSETTO:+0100
TZNAME:CET
DTSTART:20251026T010000
END:STANDARD
END:VTIMEZONE
BEGIN:VEVENT
DTSTART;TZID=Europe/Oslo:20241121T160000
DTEND;TZID=Europe/Oslo:20241121T180000
DTSTAMP:20260423T125505
CREATED:20241117T113823Z
LAST-MODIFIED:20241117T113823Z
UID:5895-1732204800-1732212000@bofk.no
SUMMARY:Ivar låner studio
DESCRIPTION:
URL:https://bofk.no/event/ivar-laner-studio-4/
CATEGORIES:Studio
END:VEVENT
BEGIN:VEVENT
DTSTART;TZID=Europe/Oslo:20241121T183000
DTEND;TZID=Europe/Oslo:20241121T213000
DTSTAMP:20260423T125505
CREATED:20241114T183052Z
LAST-MODIFIED:20241114T183052Z
UID:5886-1732213800-1732224600@bofk.no
SUMMARY:Jurykurs
DESCRIPTION:Vi holder et Jurykurs i forbindelse med å bedømme bilder.
URL:https://bofk.no/event/jurykurs/
CATEGORIES:Kurs
END:VEVENT
END:VCALENDAR