BEGIN:VCALENDAR
VERSION:2.0
PRODID:-//Bodø Fotoklubb - ECPv6.15.19//NONSGML v1.0//EN
CALSCALE:GREGORIAN
METHOD:PUBLISH
X-ORIGINAL-URL:https://bofk.no
X-WR-CALDESC:Arrangement for Bodø Fotoklubb
REFRESH-INTERVAL;VALUE=DURATION:PT1H
X-Robots-Tag:noindex
X-PUBLISHED-TTL:PT1H
BEGIN:VTIMEZONE
TZID:Europe/Oslo
BEGIN:DAYLIGHT
TZOFFSETFROM:+0100
TZOFFSETTO:+0200
TZNAME:CEST
DTSTART:20240331T010000
END:DAYLIGHT
BEGIN:STANDARD
TZOFFSETFROM:+0200
TZOFFSETTO:+0100
TZNAME:CET
DTSTART:20241027T010000
END:STANDARD
BEGIN:DAYLIGHT
TZOFFSETFROM:+0100
TZOFFSETTO:+0200
TZNAME:CEST
DTSTART:20250330T010000
END:DAYLIGHT
BEGIN:STANDARD
TZOFFSETFROM:+0200
TZOFFSETTO:+0100
TZNAME:CET
DTSTART:20251026T010000
END:STANDARD
BEGIN:DAYLIGHT
TZOFFSETFROM:+0100
TZOFFSETTO:+0200
TZNAME:CEST
DTSTART:20260329T010000
END:DAYLIGHT
BEGIN:STANDARD
TZOFFSETFROM:+0200
TZOFFSETTO:+0100
TZNAME:CET
DTSTART:20261025T010000
END:STANDARD
END:VTIMEZONE
BEGIN:VEVENT
DTSTART;TZID=Europe/Oslo:20250709T183000
DTEND;TZID=Europe/Oslo:20250709T210000
DTSTAMP:20260423T003625
CREATED:20250708T093125Z
LAST-MODIFIED:20250708T093125Z
UID:6287-1752085800-1752094800@bofk.no
SUMMARY:Kaffe & Sjitprat
DESCRIPTION:Det arrangeres kaffe og sjitprat onsdag 9 juli kl. 18.30 på Nytbar i sentrum. (Gamle En Kopp)\nTa med kamera og godt humør.
URL:https://bofk.no/event/kaffe-sjitprat-2/
CATEGORIES:Sommermøte
END:VEVENT
END:VCALENDAR