BEGIN:VCALENDAR
VERSION:2.0
PRODID:-//Bodø Fotoklubb - ECPv6.15.19//NONSGML v1.0//EN
CALSCALE:GREGORIAN
METHOD:PUBLISH
X-ORIGINAL-URL:https://bofk.no
X-WR-CALDESC:Arrangement for Bodø Fotoklubb
REFRESH-INTERVAL;VALUE=DURATION:PT1H
X-Robots-Tag:noindex
X-PUBLISHED-TTL:PT1H
BEGIN:VTIMEZONE
TZID:Europe/Oslo
BEGIN:DAYLIGHT
TZOFFSETFROM:+0100
TZOFFSETTO:+0200
TZNAME:CEST
DTSTART:20250330T010000
END:DAYLIGHT
BEGIN:STANDARD
TZOFFSETFROM:+0200
TZOFFSETTO:+0100
TZNAME:CET
DTSTART:20251026T010000
END:STANDARD
BEGIN:DAYLIGHT
TZOFFSETFROM:+0100
TZOFFSETTO:+0200
TZNAME:CEST
DTSTART:20260329T010000
END:DAYLIGHT
BEGIN:STANDARD
TZOFFSETFROM:+0200
TZOFFSETTO:+0100
TZNAME:CET
DTSTART:20261025T010000
END:STANDARD
BEGIN:DAYLIGHT
TZOFFSETFROM:+0100
TZOFFSETTO:+0200
TZNAME:CEST
DTSTART:20270328T010000
END:DAYLIGHT
BEGIN:STANDARD
TZOFFSETFROM:+0200
TZOFFSETTO:+0100
TZNAME:CET
DTSTART:20271031T010000
END:STANDARD
END:VTIMEZONE
BEGIN:VEVENT
DTSTART;TZID=Europe/Oslo:20260114T170000
DTEND;TZID=Europe/Oslo:20260114T190000
DTSTAMP:20260420T122536
CREATED:20260112T112338Z
LAST-MODIFIED:20260112T112338Z
UID:6498-1768410000-1768417200@bofk.no
SUMMARY:Moloprosjektet
DESCRIPTION:
URL:https://bofk.no/event/moloprosjektet/
CATEGORIES:Lån av lokalet
END:VEVENT
BEGIN:VEVENT
DTSTART;TZID=Europe/Oslo:20260114T190000
DTEND;TZID=Europe/Oslo:20260114T210000
DTSTAMP:20260420T122536
CREATED:20260112T103448Z
LAST-MODIFIED:20260112T103448Z
UID:6496-1768417200-1768424400@bofk.no
SUMMARY:Styremøte
DESCRIPTION:
URL:https://bofk.no/event/styremote-12/
CATEGORIES:Styremøte
END:VEVENT
END:VCALENDAR