BEGIN:VCALENDAR
VERSION:2.0
PRODID:-//Bodø Fotoklubb - ECPv6.15.20//NONSGML v1.0//EN
CALSCALE:GREGORIAN
METHOD:PUBLISH
X-ORIGINAL-URL:https://bofk.no
X-WR-CALDESC:Arrangement for Bodø Fotoklubb
REFRESH-INTERVAL;VALUE=DURATION:PT1H
X-Robots-Tag:noindex
X-PUBLISHED-TTL:PT1H
BEGIN:VTIMEZONE
TZID:Europe/Oslo
BEGIN:DAYLIGHT
TZOFFSETFROM:+0100
TZOFFSETTO:+0200
TZNAME:CEST
DTSTART:20210328T010000
END:DAYLIGHT
BEGIN:STANDARD
TZOFFSETFROM:+0200
TZOFFSETTO:+0100
TZNAME:CET
DTSTART:20211031T010000
END:STANDARD
BEGIN:DAYLIGHT
TZOFFSETFROM:+0100
TZOFFSETTO:+0200
TZNAME:CEST
DTSTART:20220327T010000
END:DAYLIGHT
BEGIN:STANDARD
TZOFFSETFROM:+0200
TZOFFSETTO:+0100
TZNAME:CET
DTSTART:20221030T010000
END:STANDARD
BEGIN:DAYLIGHT
TZOFFSETFROM:+0100
TZOFFSETTO:+0200
TZNAME:CEST
DTSTART:20230326T010000
END:DAYLIGHT
BEGIN:STANDARD
TZOFFSETFROM:+0200
TZOFFSETTO:+0100
TZNAME:CET
DTSTART:20231029T010000
END:STANDARD
END:VTIMEZONE
BEGIN:VEVENT
DTSTART;TZID=Europe/Oslo:20220902T120000
DTEND;TZID=Europe/Oslo:20220902T160000
DTSTAMP:20260425T021204
CREATED:20220830T142935Z
LAST-MODIFIED:20220830T142935Z
UID:5000-1662120000-1662134400@bofk.no
SUMMARY:Jan-Roald låner studioet
DESCRIPTION:
URL:https://bofk.no/event/jan-roald-laner-studioet-22/
CATEGORIES:Studio
END:VEVENT
BEGIN:VEVENT
DTSTART;TZID=Europe/Oslo:20220908T190000
DTEND;TZID=Europe/Oslo:20220908T213000
DTSTAMP:20260425T021204
CREATED:20220817T195723Z
LAST-MODIFIED:20220817T195737Z
UID:4954-1662663600-1662672600@bofk.no
SUMMARY:Medlemsmøte
DESCRIPTION:Dørene åpner kl 19.00\nKaffe med noe å bite i vil bli servert. \nMvh.\nStyret
URL:https://bofk.no/event/4954/
CATEGORIES:Medlemsmøte
END:VEVENT
BEGIN:VEVENT
DTSTART;TZID=Europe/Oslo:20220912T123000
DTEND;TZID=Europe/Oslo:20220912T140000
DTSTAMP:20260425T021204
CREATED:20220907T091201Z
LAST-MODIFIED:20220907T091201Z
UID:5008-1662985800-1662991200@bofk.no
SUMMARY:Kent Even låner studioet
DESCRIPTION:
URL:https://bofk.no/event/kent-even-laner-studioet-19/
CATEGORIES:Studio
END:VEVENT
BEGIN:VEVENT
DTSTART;TZID=Europe/Oslo:20220917T150000
DTEND;TZID=Europe/Oslo:20220917T180000
DTSTAMP:20260425T021204
CREATED:20220906T090930Z
LAST-MODIFIED:20220911T132216Z
UID:5006-1663426800-1663437600@bofk.no
SUMMARY:Angelique Jarhelle låner studioet
DESCRIPTION:
URL:https://bofk.no/event/angelique-jarhelle-laner-studioet-21/
CATEGORIES:Studio
END:VEVENT
BEGIN:VEVENT
DTSTART;TZID=Europe/Oslo:20220923T090000
DTEND;TZID=Europe/Oslo:20220923T220000
DTSTAMP:20260425T021204
CREATED:20220828T202341Z
LAST-MODIFIED:20220919T114614Z
UID:4994-1663923600-1663970400@bofk.no
SUMMARY:Jan-Roald låner studioet
DESCRIPTION:
URL:https://bofk.no/event/jan-roald-laner-studioet-19/
CATEGORIES:Studio
END:VEVENT
BEGIN:VEVENT
DTSTART;TZID=Europe/Oslo:20220924T150000
DTEND;TZID=Europe/Oslo:20220924T210000
DTSTAMP:20260425T021204
CREATED:20220828T202423Z
LAST-MODIFIED:20220828T202423Z
UID:4996-1664031600-1664053200@bofk.no
SUMMARY:Jan-Roald låner studioet
DESCRIPTION:
URL:https://bofk.no/event/jan-roald-laner-studioet-20/
CATEGORIES:Studio
END:VEVENT
BEGIN:VEVENT
DTSTART;TZID=Europe/Oslo:20220925T140000
DTEND;TZID=Europe/Oslo:20220925T210000
DTSTAMP:20260425T021204
CREATED:20220828T202452Z
LAST-MODIFIED:20220828T202452Z
UID:4998-1664114400-1664139600@bofk.no
SUMMARY:Jan-Roald låner studioet
DESCRIPTION:
URL:https://bofk.no/event/jan-roald-laner-studioet-21/
CATEGORIES:Studio
END:VEVENT
BEGIN:VEVENT
DTSTART;TZID=Europe/Oslo:20220927T190000
DTEND;TZID=Europe/Oslo:20220927T213000
DTSTAMP:20260425T021204
CREATED:20220817T195759Z
LAST-MODIFIED:20220817T195759Z
UID:4955-1664305200-1664314200@bofk.no
SUMMARY:Medlemsmøte
DESCRIPTION:Dørene åpner kl 19.00\nKaffe med noe å bite i vil bli servert. \nMvh.\nStyret
URL:https://bofk.no/event/medlemsmote-8/
CATEGORIES:Medlemsmøte
END:VEVENT
END:VCALENDAR