BEGIN:VCALENDAR
VERSION:2.0
PRODID:-//Bodø Fotoklubb - ECPv6.15.20//NONSGML v1.0//EN
CALSCALE:GREGORIAN
METHOD:PUBLISH
X-ORIGINAL-URL:https://bofk.no
X-WR-CALDESC:Arrangement for Bodø Fotoklubb
REFRESH-INTERVAL;VALUE=DURATION:PT1H
X-Robots-Tag:noindex
X-PUBLISHED-TTL:PT1H
BEGIN:VTIMEZONE
TZID:Europe/Oslo
BEGIN:DAYLIGHT
TZOFFSETFROM:+0100
TZOFFSETTO:+0200
TZNAME:CEST
DTSTART:20210328T010000
END:DAYLIGHT
BEGIN:STANDARD
TZOFFSETFROM:+0200
TZOFFSETTO:+0100
TZNAME:CET
DTSTART:20211031T010000
END:STANDARD
BEGIN:DAYLIGHT
TZOFFSETFROM:+0100
TZOFFSETTO:+0200
TZNAME:CEST
DTSTART:20220327T010000
END:DAYLIGHT
BEGIN:STANDARD
TZOFFSETFROM:+0200
TZOFFSETTO:+0100
TZNAME:CET
DTSTART:20221030T010000
END:STANDARD
BEGIN:DAYLIGHT
TZOFFSETFROM:+0100
TZOFFSETTO:+0200
TZNAME:CEST
DTSTART:20230326T010000
END:DAYLIGHT
BEGIN:STANDARD
TZOFFSETFROM:+0200
TZOFFSETTO:+0100
TZNAME:CET
DTSTART:20231029T010000
END:STANDARD
END:VTIMEZONE
BEGIN:VEVENT
DTSTART;TZID=Europe/Oslo:20221013T190000
DTEND;TZID=Europe/Oslo:20221013T213000
DTSTAMP:20260425T004412
CREATED:20220817T195842Z
LAST-MODIFIED:20221012T055309Z
UID:4956-1665687600-1665696600@bofk.no
SUMMARY:Ugår!! Medlemsmøte
DESCRIPTION:Dessverre så utgår medlemsmøtet. \nMvh.\nStyret
URL:https://bofk.no/event/medlemsmote-9/
CATEGORIES:Medlemsmøte
END:VEVENT
BEGIN:VEVENT
DTSTART;TZID=Europe/Oslo:20221022T140000
DTEND;TZID=Europe/Oslo:20221022T180000
DTSTAMP:20260425T004412
CREATED:20221020T130407Z
LAST-MODIFIED:20221020T130407Z
UID:5033-1666447200-1666461600@bofk.no
SUMMARY:Angelique Jarhelle låner studioet
DESCRIPTION:
URL:https://bofk.no/event/angelique-jarhelle-laner-studioet-22/
CATEGORIES:Studio
END:VEVENT
BEGIN:VEVENT
DTSTART;TZID=Europe/Oslo:20221025T100000
DTEND;TZID=Europe/Oslo:20221025T220000
DTSTAMP:20260425T004412
CREATED:20221014T094217Z
LAST-MODIFIED:20221014T103433Z
UID:5022-1666692000-1666735200@bofk.no
SUMMARY:Jan-Roald låner studioet
DESCRIPTION:
URL:https://bofk.no/event/jan-roald-laner-studioet-23/
CATEGORIES:Studio
END:VEVENT
BEGIN:VEVENT
DTSTART;TZID=Europe/Oslo:20221029T120000
DTEND;TZID=Europe/Oslo:20221029T170000
DTSTAMP:20260425T004412
CREATED:20221019T094413Z
LAST-MODIFIED:20221019T094413Z
UID:5031-1667044800-1667062800@bofk.no
SUMMARY:Rita Jakobsen låner studioet
DESCRIPTION:
URL:https://bofk.no/event/rita-jakobsen-laner-studioet-2/
CATEGORIES:Studio
END:VEVENT
BEGIN:VEVENT
DTSTART;TZID=Europe/Oslo:20221030T130000
DTEND;TZID=Europe/Oslo:20221030T183000
DTSTAMP:20260425T004412
CREATED:20221021T093208Z
LAST-MODIFIED:20221025T195539Z
UID:5035-1667134800-1667154600@bofk.no
SUMMARY:Jan-Roald låner studioet
DESCRIPTION:
URL:https://bofk.no/event/jan-roald-laner-studioet-24/
CATEGORIES:Studio
END:VEVENT
END:VCALENDAR