BEGIN:VCALENDAR
VERSION:2.0
PRODID:-//Bodø Fotoklubb - ECPv6.15.20//NONSGML v1.0//EN
CALSCALE:GREGORIAN
METHOD:PUBLISH
X-WR-CALNAME:Bodø Fotoklubb
X-ORIGINAL-URL:https://bofk.no
X-WR-CALDESC:Arrangement for Bodø Fotoklubb
REFRESH-INTERVAL;VALUE=DURATION:PT1H
X-Robots-Tag:noindex
X-PUBLISHED-TTL:PT1H
BEGIN:VTIMEZONE
TZID:Europe/Oslo
BEGIN:DAYLIGHT
TZOFFSETFROM:+0100
TZOFFSETTO:+0200
TZNAME:CEST
DTSTART:20220327T010000
END:DAYLIGHT
BEGIN:STANDARD
TZOFFSETFROM:+0200
TZOFFSETTO:+0100
TZNAME:CET
DTSTART:20221030T010000
END:STANDARD
BEGIN:DAYLIGHT
TZOFFSETFROM:+0100
TZOFFSETTO:+0200
TZNAME:CEST
DTSTART:20230326T010000
END:DAYLIGHT
BEGIN:STANDARD
TZOFFSETFROM:+0200
TZOFFSETTO:+0100
TZNAME:CET
DTSTART:20231029T010000
END:STANDARD
BEGIN:DAYLIGHT
TZOFFSETFROM:+0100
TZOFFSETTO:+0200
TZNAME:CEST
DTSTART:20240331T010000
END:DAYLIGHT
BEGIN:STANDARD
TZOFFSETFROM:+0200
TZOFFSETTO:+0100
TZNAME:CET
DTSTART:20241027T010000
END:STANDARD
END:VTIMEZONE
BEGIN:VEVENT
DTSTART;TZID=Europe/Oslo:20230208T153000
DTEND;TZID=Europe/Oslo:20230208T200000
DTSTAMP:20260424T175518
CREATED:20230201T214154Z
LAST-MODIFIED:20230201T214154Z
UID:5149-1675870200-1675886400@bofk.no
SUMMARY:Jan-Roald låner studioet
DESCRIPTION:
URL:https://bofk.no/event/jan-roald-laner-studioet-35/
CATEGORIES:Studio
END:VEVENT
BEGIN:VEVENT
DTSTART;TZID=Europe/Oslo:20230212T120000
DTEND;TZID=Europe/Oslo:20230212T170000
DTSTAMP:20260424T175518
CREATED:20230209T100644Z
LAST-MODIFIED:20230209T100644Z
UID:5154-1676203200-1676221200@bofk.no
SUMMARY:Jan-Roald låner studioet
DESCRIPTION:
URL:https://bofk.no/event/jan-roald-laner-studioet-36/
CATEGORIES:Studio
END:VEVENT
BEGIN:VEVENT
DTSTART;TZID=Europe/Oslo:20230223T180000
DTEND;TZID=Europe/Oslo:20230223T193000
DTSTAMP:20260424T175518
CREATED:20230222T175026Z
LAST-MODIFIED:20230222T175026Z
UID:5160-1677175200-1677180600@bofk.no
SUMMARY:Jan-Roald låner lokalet
DESCRIPTION:
URL:https://bofk.no/event/jan-roald-laner-lokalet/
CATEGORIES:Lån av lokalet
END:VEVENT
END:VCALENDAR