BEGIN:VCALENDAR
VERSION:2.0
PRODID:-//Bodø Fotoklubb - ECPv6.15.20//NONSGML v1.0//EN
CALSCALE:GREGORIAN
METHOD:PUBLISH
X-ORIGINAL-URL:https://bofk.no
X-WR-CALDESC:Arrangement for Bodø Fotoklubb
REFRESH-INTERVAL;VALUE=DURATION:PT1H
X-Robots-Tag:noindex
X-PUBLISHED-TTL:PT1H
BEGIN:VTIMEZONE
TZID:Europe/Oslo
BEGIN:DAYLIGHT
TZOFFSETFROM:+0100
TZOFFSETTO:+0200
TZNAME:CEST
DTSTART:20220327T010000
END:DAYLIGHT
BEGIN:STANDARD
TZOFFSETFROM:+0200
TZOFFSETTO:+0100
TZNAME:CET
DTSTART:20221030T010000
END:STANDARD
BEGIN:DAYLIGHT
TZOFFSETFROM:+0100
TZOFFSETTO:+0200
TZNAME:CEST
DTSTART:20230326T010000
END:DAYLIGHT
BEGIN:STANDARD
TZOFFSETFROM:+0200
TZOFFSETTO:+0100
TZNAME:CET
DTSTART:20231029T010000
END:STANDARD
BEGIN:DAYLIGHT
TZOFFSETFROM:+0100
TZOFFSETTO:+0200
TZNAME:CEST
DTSTART:20240331T010000
END:DAYLIGHT
BEGIN:STANDARD
TZOFFSETFROM:+0200
TZOFFSETTO:+0100
TZNAME:CET
DTSTART:20241027T010000
END:STANDARD
END:VTIMEZONE
BEGIN:VEVENT
DTSTART;TZID=Europe/Oslo:20230302T190000
DTEND;TZID=Europe/Oslo:20230302T213000
DTSTAMP:20260424T160118
CREATED:20230109T184522Z
LAST-MODIFIED:20230125T192944Z
UID:5135-1677783600-1677792600@bofk.no
SUMMARY:Årsmøte
DESCRIPTION:Årsmøte.\nDørene åpner kl. 19.00.\nKaffe med noe å bite i vil bli servert.
URL:https://bofk.no/event/arsmote-2/
CATEGORIES:Årsmøte
END:VEVENT
BEGIN:VEVENT
DTSTART;TZID=Europe/Oslo:20230307T183000
DTEND;TZID=Europe/Oslo:20230307T210000
DTSTAMP:20260424T160118
CREATED:20230302T203503Z
LAST-MODIFIED:20230302T203503Z
UID:5163-1678213800-1678222800@bofk.no
SUMMARY:Møte angående innlevering til NSFF's vårkonkurranse
DESCRIPTION:
URL:https://bofk.no/event/mote-angaende-innlevering-til-nsffs-varkonkurranse/
CATEGORIES:Medlemsmøte
END:VEVENT
BEGIN:VEVENT
DTSTART;TZID=Europe/Oslo:20230314T190000
DTEND;TZID=Europe/Oslo:20230314T210000
DTSTAMP:20260424T160118
CREATED:20230309T110227Z
LAST-MODIFIED:20230309T110227Z
UID:5170-1678820400-1678827600@bofk.no
SUMMARY:Styremøte
DESCRIPTION:
URL:https://bofk.no/event/styremote-6/
CATEGORIES:Styremøte
END:VEVENT
BEGIN:VEVENT
DTSTART;TZID=Europe/Oslo:20230315T160000
DTEND;TZID=Europe/Oslo:20230315T200000
DTSTAMP:20260424T160118
CREATED:20230314T141515Z
LAST-MODIFIED:20230314T141515Z
UID:5175-1678896000-1678910400@bofk.no
SUMMARY:Kent Even låner studioet
DESCRIPTION:
URL:https://bofk.no/event/kent-even-laner-studioet-21/
CATEGORIES:Studio
END:VEVENT
BEGIN:VEVENT
DTSTART;TZID=Europe/Oslo:20230319T133000
DTEND;TZID=Europe/Oslo:20230319T190000
DTSTAMP:20260424T160118
CREATED:20230307T082605Z
LAST-MODIFIED:20230307T082605Z
UID:5168-1679232600-1679252400@bofk.no
SUMMARY:Jan-Roald låner studioet
DESCRIPTION:
URL:https://bofk.no/event/jan-roald-laner-studioet-37/
CATEGORIES:Studio
END:VEVENT
BEGIN:VEVENT
DTSTART;TZID=Europe/Oslo:20230328T190000
DTEND;TZID=Europe/Oslo:20230328T210000
DTSTAMP:20260424T160118
CREATED:20230314T191009Z
LAST-MODIFIED:20230314T191009Z
UID:5177-1680030000-1680037200@bofk.no
SUMMARY:Medlemsmøte
DESCRIPTION:Velkommen til årets første medlemsmøte
URL:https://bofk.no/event/medlemsmote-12/
CATEGORIES:Medlemsmøte
END:VEVENT
END:VCALENDAR