BEGIN:VCALENDAR
VERSION:2.0
PRODID:-//Bodø Fotoklubb - ECPv6.15.20//NONSGML v1.0//EN
CALSCALE:GREGORIAN
METHOD:PUBLISH
X-ORIGINAL-URL:https://bofk.no
X-WR-CALDESC:Arrangement for Bodø Fotoklubb
REFRESH-INTERVAL;VALUE=DURATION:PT1H
X-Robots-Tag:noindex
X-PUBLISHED-TTL:PT1H
BEGIN:VTIMEZONE
TZID:Europe/Oslo
BEGIN:DAYLIGHT
TZOFFSETFROM:+0100
TZOFFSETTO:+0200
TZNAME:CEST
DTSTART:20220327T010000
END:DAYLIGHT
BEGIN:STANDARD
TZOFFSETFROM:+0200
TZOFFSETTO:+0100
TZNAME:CET
DTSTART:20221030T010000
END:STANDARD
BEGIN:DAYLIGHT
TZOFFSETFROM:+0100
TZOFFSETTO:+0200
TZNAME:CEST
DTSTART:20230326T010000
END:DAYLIGHT
BEGIN:STANDARD
TZOFFSETFROM:+0200
TZOFFSETTO:+0100
TZNAME:CET
DTSTART:20231029T010000
END:STANDARD
BEGIN:DAYLIGHT
TZOFFSETFROM:+0100
TZOFFSETTO:+0200
TZNAME:CEST
DTSTART:20240331T010000
END:DAYLIGHT
BEGIN:STANDARD
TZOFFSETFROM:+0200
TZOFFSETTO:+0100
TZNAME:CET
DTSTART:20241027T010000
END:STANDARD
END:VTIMEZONE
BEGIN:VEVENT
DTSTART;TZID=Europe/Oslo:20231106T153000
DTEND;TZID=Europe/Oslo:20231106T173000
DTSTAMP:20260424T044736
CREATED:20231102T122350Z
LAST-MODIFIED:20231102T122350Z
UID:5436-1699284600-1699291800@bofk.no
SUMMARY:Hans låner studio
DESCRIPTION:
URL:https://bofk.no/event/hans-laner-studio/
CATEGORIES:Studio
END:VEVENT
BEGIN:VEVENT
DTSTART;TZID=Europe/Oslo:20231109T100000
DTEND;TZID=Europe/Oslo:20231109T143000
DTSTAMP:20260424T044736
CREATED:20231106T161940Z
LAST-MODIFIED:20231106T161940Z
UID:5443-1699524000-1699540200@bofk.no
SUMMARY:Jan-Roald låner studio
DESCRIPTION:
URL:https://bofk.no/event/jan-roald-laner-studio-4/
CATEGORIES:Studio
END:VEVENT
BEGIN:VEVENT
DTSTART;TZID=Europe/Oslo:20231111T113000
DTEND;TZID=Europe/Oslo:20231111T150000
DTSTAMP:20260424T044736
CREATED:20231104T121303Z
LAST-MODIFIED:20231104T121303Z
UID:5438-1699702200-1699714800@bofk.no
SUMMARY:Angelique låner studio
DESCRIPTION:
URL:https://bofk.no/event/angelique-laner-studio/
CATEGORIES:Studio
END:VEVENT
BEGIN:VEVENT
DTSTART;TZID=Europe/Oslo:20231114T190000
DTEND;TZID=Europe/Oslo:20231114T220000
DTSTAMP:20260424T044736
CREATED:20230616T161524Z
LAST-MODIFIED:20231003T182450Z
UID:5293-1699988400-1699999200@bofk.no
SUMMARY:Medlemsmøte
DESCRIPTION:Kommer mer etter hvert. \nKildekritikk (3 medlemmer tar med 3 bilder hver)\nTeknisk kvarter
URL:https://bofk.no/event/medlemsmote-20/
CATEGORIES:Medlemsmøte
END:VEVENT
BEGIN:VEVENT
DTSTART;TZID=Europe/Oslo:20231121T120000
DTEND;TZID=Europe/Oslo:20231121T170000
DTSTAMP:20260424T044736
CREATED:20231106T143208Z
LAST-MODIFIED:20231115T090231Z
UID:5441-1700568000-1700586000@bofk.no
SUMMARY:Jan-Roald låner studio
DESCRIPTION:
URL:https://bofk.no/event/jan-roald-laner-studio-3/
CATEGORIES:Studio
END:VEVENT
BEGIN:VEVENT
DTSTART;TZID=Europe/Oslo:20231122T130000
DTEND;TZID=Europe/Oslo:20231122T160000
DTSTAMP:20260424T044736
CREATED:20231117T141134Z
LAST-MODIFIED:20231117T141134Z
UID:5449-1700658000-1700668800@bofk.no
SUMMARY:Airida låner studio
DESCRIPTION:
URL:https://bofk.no/event/airida-laner-studio-2/
CATEGORIES:Studio
END:VEVENT
BEGIN:VEVENT
DTSTART;TZID=Europe/Oslo:20231125T120000
DTEND;TZID=Europe/Oslo:20231125T180000
DTSTAMP:20260424T044736
CREATED:20231013T154137Z
LAST-MODIFIED:20231113T171921Z
UID:5421-1700913600-1700935200@bofk.no
SUMMARY:Jan-Roald låner studio
DESCRIPTION:
URL:https://bofk.no/event/jan-roald-laner-studio/
CATEGORIES:Studio
END:VEVENT
BEGIN:VEVENT
DTSTART;TZID=Europe/Oslo:20231126T110000
DTEND;TZID=Europe/Oslo:20231126T180000
DTSTAMP:20260424T044736
CREATED:20231113T212019Z
LAST-MODIFIED:20231113T212019Z
UID:5446-1700996400-1701021600@bofk.no
SUMMARY:Angelique låner studioet
DESCRIPTION:
URL:https://bofk.no/event/angelique-laner-studioet-3/
CATEGORIES:Studio
END:VEVENT
BEGIN:VEVENT
DTSTART;TZID=Europe/Oslo:20231130T200000
DTEND;TZID=Europe/Oslo:20231130T213000
DTSTAMP:20260424T044736
CREATED:20231127T194359Z
LAST-MODIFIED:20231127T194359Z
UID:5457-1701374400-1701379800@bofk.no
SUMMARY:Konkurransemøte
DESCRIPTION:
URL:https://bofk.no/event/konkurransemote-2/
CATEGORIES:Lån av lokalet
END:VEVENT
END:VCALENDAR