BEGIN:VCALENDAR
VERSION:2.0
PRODID:-//Bodø Fotoklubb - ECPv6.15.20//NONSGML v1.0//EN
CALSCALE:GREGORIAN
METHOD:PUBLISH
X-ORIGINAL-URL:https://bofk.no
X-WR-CALDESC:Arrangement for Bodø Fotoklubb
REFRESH-INTERVAL;VALUE=DURATION:PT1H
X-Robots-Tag:noindex
X-PUBLISHED-TTL:PT1H
BEGIN:VTIMEZONE
TZID:Europe/Oslo
BEGIN:DAYLIGHT
TZOFFSETFROM:+0100
TZOFFSETTO:+0200
TZNAME:CEST
DTSTART:20230326T010000
END:DAYLIGHT
BEGIN:STANDARD
TZOFFSETFROM:+0200
TZOFFSETTO:+0100
TZNAME:CET
DTSTART:20231029T010000
END:STANDARD
BEGIN:DAYLIGHT
TZOFFSETFROM:+0100
TZOFFSETTO:+0200
TZNAME:CEST
DTSTART:20240331T010000
END:DAYLIGHT
BEGIN:STANDARD
TZOFFSETFROM:+0200
TZOFFSETTO:+0100
TZNAME:CET
DTSTART:20241027T010000
END:STANDARD
BEGIN:DAYLIGHT
TZOFFSETFROM:+0100
TZOFFSETTO:+0200
TZNAME:CEST
DTSTART:20250330T010000
END:DAYLIGHT
BEGIN:STANDARD
TZOFFSETFROM:+0200
TZOFFSETTO:+0100
TZNAME:CET
DTSTART:20251026T010000
END:STANDARD
END:VTIMEZONE
BEGIN:VEVENT
DTSTART;TZID=Europe/Oslo:20240107T110000
DTEND;TZID=Europe/Oslo:20240107T180000
DTSTAMP:20260424T020638
CREATED:20240101T155927Z
LAST-MODIFIED:20240101T155927Z
UID:5486-1704625200-1704650400@bofk.no
SUMMARY:Helle Mari låner studio
DESCRIPTION:
URL:https://bofk.no/event/helle-mari-laner-studio-2/
CATEGORIES:Studio
END:VEVENT
BEGIN:VEVENT
DTSTART;TZID=Europe/Oslo:20240116T140000
DTEND;TZID=Europe/Oslo:20240116T170000
DTSTAMP:20260424T020638
CREATED:20240112T090628Z
LAST-MODIFIED:20240112T090628Z
UID:5507-1705413600-1705424400@bofk.no
SUMMARY:Byggalf (Olav-Inge) låner lokalet.
DESCRIPTION:
URL:https://bofk.no/event/byggalf-olav-inge-laner-lokalet/
CATEGORIES:Lån av lokalet
END:VEVENT
BEGIN:VEVENT
DTSTART;TZID=Europe/Oslo:20240118T190000
DTEND;TZID=Europe/Oslo:20240118T210000
DTSTAMP:20260424T020638
CREATED:20240112T115051Z
LAST-MODIFIED:20240112T115051Z
UID:5515-1705604400-1705611600@bofk.no
SUMMARY:Styremøte
DESCRIPTION:
URL:https://bofk.no/event/styremote-8/
CATEGORIES:Styremøte
END:VEVENT
BEGIN:VEVENT
DTSTART;TZID=Europe/Oslo:20240128T160000
DTEND;TZID=Europe/Oslo:20240128T190000
DTSTAMP:20260424T020638
CREATED:20240126T082252Z
LAST-MODIFIED:20240126T082252Z
UID:5567-1706457600-1706468400@bofk.no
SUMMARY:Olav-Inge låner studio
DESCRIPTION:
URL:https://bofk.no/event/olav-inge-laner-studio-3/
CATEGORIES:Studio
END:VEVENT
BEGIN:VEVENT
DTSTART;TZID=Europe/Oslo:20240129T180000
DTEND;TZID=Europe/Oslo:20240129T193000
DTSTAMP:20260424T020638
CREATED:20240129T044941Z
LAST-MODIFIED:20240129T044941Z
UID:5598-1706551200-1706556600@bofk.no
SUMMARY:Rune låner studio
DESCRIPTION:
URL:https://bofk.no/event/rune-laner-studio/
CATEGORIES:Studio
END:VEVENT
BEGIN:VEVENT
DTSTART;TZID=Europe/Oslo:20240130T183000
DTEND;TZID=Europe/Oslo:20240130T213000
DTSTAMP:20260424T020638
CREATED:20240103T182108Z
LAST-MODIFIED:20240103T182108Z
UID:5499-1706639400-1706650200@bofk.no
SUMMARY:Solfest
DESCRIPTION:Velkommen til solfest.\nPizza\, kake og kaffe serveres \nMvh\n  Styret
URL:https://bofk.no/event/solfest/
CATEGORIES:Medlemsmøte
END:VEVENT
END:VCALENDAR