BEGIN:VCALENDAR
VERSION:2.0
PRODID:-//Bodø Fotoklubb - ECPv6.15.20//NONSGML v1.0//EN
CALSCALE:GREGORIAN
METHOD:PUBLISH
X-ORIGINAL-URL:https://bofk.no
X-WR-CALDESC:Arrangement for Bodø Fotoklubb
REFRESH-INTERVAL;VALUE=DURATION:PT1H
X-Robots-Tag:noindex
X-PUBLISHED-TTL:PT1H
BEGIN:VTIMEZONE
TZID:Europe/Oslo
BEGIN:DAYLIGHT
TZOFFSETFROM:+0100
TZOFFSETTO:+0200
TZNAME:CEST
DTSTART:20230326T010000
END:DAYLIGHT
BEGIN:STANDARD
TZOFFSETFROM:+0200
TZOFFSETTO:+0100
TZNAME:CET
DTSTART:20231029T010000
END:STANDARD
BEGIN:DAYLIGHT
TZOFFSETFROM:+0100
TZOFFSETTO:+0200
TZNAME:CEST
DTSTART:20240331T010000
END:DAYLIGHT
BEGIN:STANDARD
TZOFFSETFROM:+0200
TZOFFSETTO:+0100
TZNAME:CET
DTSTART:20241027T010000
END:STANDARD
BEGIN:DAYLIGHT
TZOFFSETFROM:+0100
TZOFFSETTO:+0200
TZNAME:CEST
DTSTART:20250330T010000
END:DAYLIGHT
BEGIN:STANDARD
TZOFFSETFROM:+0200
TZOFFSETTO:+0100
TZNAME:CET
DTSTART:20251026T010000
END:STANDARD
END:VTIMEZONE
BEGIN:VEVENT
DTSTART;TZID=Europe/Oslo:20240204T100000
DTEND;TZID=Europe/Oslo:20240204T170000
DTSTAMP:20260424T004742
CREATED:20240130T203702Z
LAST-MODIFIED:20240130T203702Z
UID:5606-1707040800-1707066000@bofk.no
SUMMARY:Fototur til Saltstraumen
DESCRIPTION:Oppmøte ved Saltstraumen hotell kl. 10.00
URL:https://bofk.no/event/fototur-til-saltstraumen/
CATEGORIES:Fototur
END:VEVENT
BEGIN:VEVENT
DTSTART;TZID=Europe/Oslo:20240206T180000
DTEND;TZID=Europe/Oslo:20240206T210000
DTSTAMP:20260424T004742
CREATED:20240122T140537Z
LAST-MODIFIED:20240130T203503Z
UID:5551-1707242400-1707253200@bofk.no
SUMMARY:Styremøte
DESCRIPTION:
URL:https://bofk.no/event/styremote-9/
CATEGORIES:Styremøte
END:VEVENT
BEGIN:VEVENT
DTSTART;TZID=Europe/Oslo:20240218T140000
DTEND;TZID=Europe/Oslo:20240218T190000
DTSTAMP:20260424T004742
CREATED:20240212T164102Z
LAST-MODIFIED:20240212T164102Z
UID:5616-1708264800-1708282800@bofk.no
SUMMARY:Jan-Roald låner studio
DESCRIPTION:
URL:https://bofk.no/event/jan-roald-laner-studio-5/
CATEGORIES:Studio
END:VEVENT
BEGIN:VEVENT
DTSTART;TZID=Europe/Oslo:20240219T190000
DTEND;TZID=Europe/Oslo:20240219T210000
DTSTAMP:20260424T004742
CREATED:20240125T211504Z
LAST-MODIFIED:20240125T211504Z
UID:5556-1708369200-1708376400@bofk.no
SUMMARY:Klubbkveld om drone-foto.
DESCRIPTION:Velkommen til klubbkveld mandag 19. februar kl 19.00.\nKent kommer og forteller om bruk av drone og hvilke lover og regler som gjelder. Samt hvor man kan fly droner.
URL:https://bofk.no/event/klubbkveld-om-drone-foto/
CATEGORIES:Klubbkveld
END:VEVENT
BEGIN:VEVENT
DTSTART;TZID=Europe/Oslo:20240223T150000
DTEND;TZID=Europe/Oslo:20240223T233000
DTSTAMP:20260424T004742
CREATED:20240205T181429Z
LAST-MODIFIED:20240222T122456Z
UID:5611-1708700400-1708731000@bofk.no
SUMMARY:Jan-Roald låner studio
DESCRIPTION:
URL:https://bofk.no/event/jan-roald-laner-studioe-3/
CATEGORIES:Studio
END:VEVENT
BEGIN:VEVENT
DTSTART;TZID=Europe/Oslo:20240227T180000
DTEND;TZID=Europe/Oslo:20240227T193000
DTSTAMP:20260424T004742
CREATED:20240227T073520Z
LAST-MODIFIED:20240227T073520Z
UID:5624-1709056800-1709062200@bofk.no
SUMMARY:Olav-Inge er i lokalet.
DESCRIPTION:Fikser ny utlånskode + eventuelt opplæring i konk.
URL:https://bofk.no/event/olav-inge-er-i-lokalet/
CATEGORIES:Kurs
END:VEVENT
BEGIN:VEVENT
DTSTART;TZID=Europe/Oslo:20240229T180000
DTEND;TZID=Europe/Oslo:20240229T210000
DTSTAMP:20260424T004742
CREATED:20240122T140611Z
LAST-MODIFIED:20240130T203521Z
UID:5553-1709229600-1709240400@bofk.no
SUMMARY:Styremøte
DESCRIPTION:
URL:https://bofk.no/event/styremote-10/
CATEGORIES:Styremøte
END:VEVENT
END:VCALENDAR