BEGIN:VCALENDAR
VERSION:2.0
PRODID:-//Bodø Fotoklubb - ECPv6.15.19//NONSGML v1.0//EN
CALSCALE:GREGORIAN
METHOD:PUBLISH
X-WR-CALNAME:Bodø Fotoklubb
X-ORIGINAL-URL:https://bofk.no
X-WR-CALDESC:Arrangement for Bodø Fotoklubb
REFRESH-INTERVAL;VALUE=DURATION:PT1H
X-Robots-Tag:noindex
X-PUBLISHED-TTL:PT1H
BEGIN:VTIMEZONE
TZID:Europe/Oslo
BEGIN:DAYLIGHT
TZOFFSETFROM:+0100
TZOFFSETTO:+0200
TZNAME:CEST
DTSTART:20230326T010000
END:DAYLIGHT
BEGIN:STANDARD
TZOFFSETFROM:+0200
TZOFFSETTO:+0100
TZNAME:CET
DTSTART:20231029T010000
END:STANDARD
BEGIN:DAYLIGHT
TZOFFSETFROM:+0100
TZOFFSETTO:+0200
TZNAME:CEST
DTSTART:20240331T010000
END:DAYLIGHT
BEGIN:STANDARD
TZOFFSETFROM:+0200
TZOFFSETTO:+0100
TZNAME:CET
DTSTART:20241027T010000
END:STANDARD
BEGIN:DAYLIGHT
TZOFFSETFROM:+0100
TZOFFSETTO:+0200
TZNAME:CEST
DTSTART:20250330T010000
END:DAYLIGHT
BEGIN:STANDARD
TZOFFSETFROM:+0200
TZOFFSETTO:+0100
TZNAME:CET
DTSTART:20251026T010000
END:STANDARD
END:VTIMEZONE
BEGIN:VEVENT
DTSTART;TZID=Europe/Oslo:20240502T160000
DTEND;TZID=Europe/Oslo:20240502T230000
DTSTAMP:20260423T205248
CREATED:20240429T180054Z
LAST-MODIFIED:20240429T180054Z
UID:5705-1714665600-1714690800@bofk.no
SUMMARY:Ivar låner studio
DESCRIPTION:Ivar låner studio
URL:https://bofk.no/event/ivar-laner-studio-2/
END:VEVENT
BEGIN:VEVENT
DTSTART;TZID=Europe/Oslo:20240511T100000
DTEND;TZID=Europe/Oslo:20240511T150000
DTSTAMP:20260423T205248
CREATED:20240506T062421Z
LAST-MODIFIED:20240506T062421Z
UID:5710-1715421600-1715439600@bofk.no
SUMMARY:Jan-Roald låner studio
DESCRIPTION:
URL:https://bofk.no/event/jan-roald-laner-studio-13/
CATEGORIES:Studio
END:VEVENT
BEGIN:VEVENT
DTSTART;TZID=Europe/Oslo:20240514T190000
DTEND;TZID=Europe/Oslo:20240514T210000
DTSTAMP:20260423T205248
CREATED:20240319T183405Z
LAST-MODIFIED:20240319T183405Z
UID:5667-1715713200-1715720400@bofk.no
SUMMARY:Utefoto
DESCRIPTION:Velkommen til utefoto. (Sted og tid vil bli anonnsert senere.)\nLitt væravhengig\, men vi har bestilt godt vær.
URL:https://bofk.no/event/utefoto/
CATEGORIES:Medlemsmøte
END:VEVENT
BEGIN:VEVENT
DTSTART;TZID=Europe/Oslo:20240518T100000
DTEND;TZID=Europe/Oslo:20240518T140000
DTSTAMP:20260423T205248
CREATED:20240506T062342Z
LAST-MODIFIED:20240506T062342Z
UID:5708-1716026400-1716040800@bofk.no
SUMMARY:Jan-Roald låner studio
DESCRIPTION:
URL:https://bofk.no/event/jan-roald-laner-studio-8/
CATEGORIES:Studio
END:VEVENT
BEGIN:VEVENT
DTSTART;TZID=Europe/Oslo:20240530T153000
DTEND;TZID=Europe/Oslo:20240530T210000
DTSTAMP:20260423T205248
CREATED:20240508T202506Z
LAST-MODIFIED:20240521T125515Z
UID:5714-1717083000-1717102800@bofk.no
SUMMARY:Jan-Roald låner studio
DESCRIPTION:
URL:https://bofk.no/event/jan-roald-laner-studio-14/
CATEGORIES:Studio
END:VEVENT
END:VCALENDAR