BEGIN:VCALENDAR
VERSION:2.0
PRODID:-//Bodø Fotoklubb - ECPv6.15.19//NONSGML v1.0//EN
CALSCALE:GREGORIAN
METHOD:PUBLISH
X-WR-CALNAME:Bodø Fotoklubb
X-ORIGINAL-URL:https://bofk.no
X-WR-CALDESC:Arrangement for Bodø Fotoklubb
REFRESH-INTERVAL;VALUE=DURATION:PT1H
X-Robots-Tag:noindex
X-PUBLISHED-TTL:PT1H
BEGIN:VTIMEZONE
TZID:Europe/Oslo
BEGIN:DAYLIGHT
TZOFFSETFROM:+0100
TZOFFSETTO:+0200
TZNAME:CEST
DTSTART:20230326T010000
END:DAYLIGHT
BEGIN:STANDARD
TZOFFSETFROM:+0200
TZOFFSETTO:+0100
TZNAME:CET
DTSTART:20231029T010000
END:STANDARD
BEGIN:DAYLIGHT
TZOFFSETFROM:+0100
TZOFFSETTO:+0200
TZNAME:CEST
DTSTART:20240331T010000
END:DAYLIGHT
BEGIN:STANDARD
TZOFFSETFROM:+0200
TZOFFSETTO:+0100
TZNAME:CET
DTSTART:20241027T010000
END:STANDARD
BEGIN:DAYLIGHT
TZOFFSETFROM:+0100
TZOFFSETTO:+0200
TZNAME:CEST
DTSTART:20250330T010000
END:DAYLIGHT
BEGIN:STANDARD
TZOFFSETFROM:+0200
TZOFFSETTO:+0100
TZNAME:CET
DTSTART:20251026T010000
END:STANDARD
END:VTIMEZONE
BEGIN:VEVENT
DTSTART;TZID=Europe/Oslo:20241008T190000
DTEND;TZID=Europe/Oslo:20241008T210000
DTSTAMP:20260423T125508
CREATED:20240924T172749Z
LAST-MODIFIED:20240924T201744Z
UID:5826-1728414000-1728421200@bofk.no
SUMMARY:Medlemsmøte
DESCRIPTION:Velkommen til medlemsmøte\nOppsumering av landsstevnet + +\nDørene åpner kl. 19.00 \nKAffe og noe å bite i vil bli servert
URL:https://bofk.no/event/medlemsmote-25/
CATEGORIES:Medlemsmøte
END:VEVENT
BEGIN:VEVENT
DTSTART;TZID=Europe/Oslo:20241016T163000
DTEND;TZID=Europe/Oslo:20241016T190000
DTSTAMP:20260423T125508
CREATED:20241014T112408Z
LAST-MODIFIED:20241014T112408Z
UID:5857-1729096200-1729105200@bofk.no
SUMMARY:Kent Even og Jan-Roald låner lokalet.
DESCRIPTION:
URL:https://bofk.no/event/kent-even-og-jan-roald-laner-lokalet/
CATEGORIES:Lån av lokalet
END:VEVENT
BEGIN:VEVENT
DTSTART;TZID=Europe/Oslo:20241021T190000
DTEND;TZID=Europe/Oslo:20241021T220000
DTSTAMP:20260423T125508
CREATED:20241009T175549Z
LAST-MODIFIED:20241009T175549Z
UID:5852-1729537200-1729548000@bofk.no
SUMMARY:Modellfoto
DESCRIPTION:
URL:https://bofk.no/event/modellfoto/
CATEGORIES:Kurs
END:VEVENT
BEGIN:VEVENT
DTSTART;TZID=Europe/Oslo:20241026T140000
DTEND;TZID=Europe/Oslo:20241026T193000
DTSTAMP:20260423T125508
CREATED:20241016T195450Z
LAST-MODIFIED:20241016T195450Z
UID:5859-1729951200-1729971000@bofk.no
SUMMARY:Jan-Roald låner studio
DESCRIPTION:
URL:https://bofk.no/event/jan-roald-laner-studio-25/
CATEGORIES:Studio
END:VEVENT
BEGIN:VEVENT
DTSTART;TZID=Europe/Oslo:20241027T150000
DTEND;TZID=Europe/Oslo:20241027T190000
DTSTAMP:20260423T125508
CREATED:20241022T173746Z
LAST-MODIFIED:20241022T173747Z
UID:5870-1730041200-1730055600@bofk.no
SUMMARY:Bjørn låner studio
DESCRIPTION:
URL:https://bofk.no/event/bjorn-laner-studio-2/
CATEGORIES:Lån av lokalet
END:VEVENT
BEGIN:VEVENT
DTSTART;TZID=Europe/Oslo:20241029T193000
DTEND;TZID=Europe/Oslo:20241029T210000
DTSTAMP:20260423T125508
CREATED:20240924T172920Z
LAST-MODIFIED:20240924T172920Z
UID:5828-1730230200-1730235600@bofk.no
SUMMARY:Medlemsmøte
DESCRIPTION:Velkommen til medlemsmøte
URL:https://bofk.no/event/medlemsmote-26/
CATEGORIES:Medlemsmøte
END:VEVENT
END:VCALENDAR