BEGIN:VCALENDAR
VERSION:2.0
PRODID:-//Bodø Fotoklubb - ECPv6.15.19//NONSGML v1.0//EN
CALSCALE:GREGORIAN
METHOD:PUBLISH
X-ORIGINAL-URL:https://bofk.no
X-WR-CALDESC:Arrangement for Bodø Fotoklubb
REFRESH-INTERVAL;VALUE=DURATION:PT1H
X-Robots-Tag:noindex
X-PUBLISHED-TTL:PT1H
BEGIN:VTIMEZONE
TZID:Europe/Oslo
BEGIN:DAYLIGHT
TZOFFSETFROM:+0100
TZOFFSETTO:+0200
TZNAME:CEST
DTSTART:20240331T010000
END:DAYLIGHT
BEGIN:STANDARD
TZOFFSETFROM:+0200
TZOFFSETTO:+0100
TZNAME:CET
DTSTART:20241027T010000
END:STANDARD
BEGIN:DAYLIGHT
TZOFFSETFROM:+0100
TZOFFSETTO:+0200
TZNAME:CEST
DTSTART:20250330T010000
END:DAYLIGHT
BEGIN:STANDARD
TZOFFSETFROM:+0200
TZOFFSETTO:+0100
TZNAME:CET
DTSTART:20251026T010000
END:STANDARD
BEGIN:DAYLIGHT
TZOFFSETFROM:+0100
TZOFFSETTO:+0200
TZNAME:CEST
DTSTART:20260329T010000
END:DAYLIGHT
BEGIN:STANDARD
TZOFFSETFROM:+0200
TZOFFSETTO:+0100
TZNAME:CET
DTSTART:20261025T010000
END:STANDARD
END:VTIMEZONE
BEGIN:VEVENT
DTSTART;TZID=Europe/Oslo:20250104T110000
DTEND;TZID=Europe/Oslo:20250104T170000
DTSTAMP:20260423T082719
CREATED:20250103T163524Z
LAST-MODIFIED:20250103T212423Z
UID:5929-1735988400-1736010000@bofk.no
SUMMARY:Jan-Roald låner studio
DESCRIPTION:
URL:https://bofk.no/event/jan-roald-laner-studio-29/
CATEGORIES:Studio
END:VEVENT
BEGIN:VEVENT
DTSTART;TZID=Europe/Oslo:20250109T160000
DTEND;TZID=Europe/Oslo:20250109T210000
DTSTAMP:20260423T082719
CREATED:20241231T230849Z
LAST-MODIFIED:20250107T165928Z
UID:5927-1736438400-1736456400@bofk.no
SUMMARY:Jan-Roald låner studio
DESCRIPTION:
URL:https://bofk.no/event/jan-roald-laner-studio-28/
CATEGORIES:Studio
END:VEVENT
BEGIN:VEVENT
DTSTART;TZID=Europe/Oslo:20250123T183000
DTEND;TZID=Europe/Oslo:20250123T210000
DTSTAMP:20260423T082719
CREATED:20250121T072435Z
LAST-MODIFIED:20250121T072435Z
UID:5934-1737657000-1737666000@bofk.no
SUMMARY:Juryering
DESCRIPTION:
URL:https://bofk.no/event/juryering-2/
CATEGORIES:Juryering
END:VEVENT
BEGIN:VEVENT
DTSTART;TZID=Europe/Oslo:20250128T190000
DTEND;TZID=Europe/Oslo:20250128T213000
DTSTAMP:20260423T082719
CREATED:20250107T170000Z
LAST-MODIFIED:20250107T170000Z
UID:5932-1738090800-1738099800@bofk.no
SUMMARY:Årsmøte
DESCRIPTION:
URL:https://bofk.no/event/arsmote-4/
CATEGORIES:Årsmøte
END:VEVENT
END:VCALENDAR