BEGIN:VCALENDAR
VERSION:2.0
PRODID:-//Bodø Fotoklubb - ECPv6.15.19//NONSGML v1.0//EN
CALSCALE:GREGORIAN
METHOD:PUBLISH
X-WR-CALNAME:Bodø Fotoklubb
X-ORIGINAL-URL:https://bofk.no
X-WR-CALDESC:Arrangement for Bodø Fotoklubb
REFRESH-INTERVAL;VALUE=DURATION:PT1H
X-Robots-Tag:noindex
X-PUBLISHED-TTL:PT1H
BEGIN:VTIMEZONE
TZID:Europe/Oslo
BEGIN:DAYLIGHT
TZOFFSETFROM:+0100
TZOFFSETTO:+0200
TZNAME:CEST
DTSTART:20240331T010000
END:DAYLIGHT
BEGIN:STANDARD
TZOFFSETFROM:+0200
TZOFFSETTO:+0100
TZNAME:CET
DTSTART:20241027T010000
END:STANDARD
BEGIN:DAYLIGHT
TZOFFSETFROM:+0100
TZOFFSETTO:+0200
TZNAME:CEST
DTSTART:20250330T010000
END:DAYLIGHT
BEGIN:STANDARD
TZOFFSETFROM:+0200
TZOFFSETTO:+0100
TZNAME:CET
DTSTART:20251026T010000
END:STANDARD
BEGIN:DAYLIGHT
TZOFFSETFROM:+0100
TZOFFSETTO:+0200
TZNAME:CEST
DTSTART:20260329T010000
END:DAYLIGHT
BEGIN:STANDARD
TZOFFSETFROM:+0200
TZOFFSETTO:+0100
TZNAME:CET
DTSTART:20261025T010000
END:STANDARD
END:VTIMEZONE
BEGIN:VEVENT
DTSTART;TZID=Europe/Oslo:20250204T173000
DTEND;TZID=Europe/Oslo:20250204T213000
DTSTAMP:20260423T064048
CREATED:20250128T204726Z
LAST-MODIFIED:20250128T204726Z
UID:5939-1738690200-1738704600@bofk.no
SUMMARY:Studio/Lyskurs del. 1
DESCRIPTION:
URL:https://bofk.no/event/studio-lyskurs-del-1/
CATEGORIES:Kurs
END:VEVENT
BEGIN:VEVENT
DTSTART;TZID=Europe/Oslo:20250212T180000
DTEND;TZID=Europe/Oslo:20250212T200000
DTSTAMP:20260423T064048
CREATED:20250204T090206Z
LAST-MODIFIED:20250204T090206Z
UID:5954-1739383200-1739390400@bofk.no
SUMMARY:Styremøte
DESCRIPTION:
URL:https://bofk.no/event/styremote-11/
CATEGORIES:Styremøte
END:VEVENT
BEGIN:VEVENT
DTSTART;TZID=Europe/Oslo:20250213T140000
DTEND;TZID=Europe/Oslo:20250213T200000
DTSTAMP:20260423T064048
CREATED:20250121T103857Z
LAST-MODIFIED:20250212T155256Z
UID:5936-1739455200-1739476800@bofk.no
SUMMARY:Jan-Roald låner studio
DESCRIPTION:
URL:https://bofk.no/event/jan-roald-laner-studio-30/
CATEGORIES:Studio
END:VEVENT
BEGIN:VEVENT
DTSTART;TZID=Europe/Oslo:20250225T190000
DTEND;TZID=Europe/Oslo:20250225T213000
DTSTAMP:20260423T064048
CREATED:20250213T093247Z
LAST-MODIFIED:20250213T093247Z
UID:6043-1740510000-1740519000@bofk.no
SUMMARY:Medlemsmøte
DESCRIPTION:
URL:https://bofk.no/event/medlemsmote-28/
CATEGORIES:Medlemsmøte
END:VEVENT
END:VCALENDAR