BEGIN:VCALENDAR
VERSION:2.0
PRODID:-//Bodø Fotoklubb - ECPv6.15.19//NONSGML v1.0//EN
CALSCALE:GREGORIAN
METHOD:PUBLISH
X-WR-CALNAME:Bodø Fotoklubb
X-ORIGINAL-URL:https://bofk.no
X-WR-CALDESC:Arrangement for Bodø Fotoklubb
REFRESH-INTERVAL;VALUE=DURATION:PT1H
X-Robots-Tag:noindex
X-PUBLISHED-TTL:PT1H
BEGIN:VTIMEZONE
TZID:Europe/Oslo
BEGIN:DAYLIGHT
TZOFFSETFROM:+0100
TZOFFSETTO:+0200
TZNAME:CEST
DTSTART:20240331T010000
END:DAYLIGHT
BEGIN:STANDARD
TZOFFSETFROM:+0200
TZOFFSETTO:+0100
TZNAME:CET
DTSTART:20241027T010000
END:STANDARD
BEGIN:DAYLIGHT
TZOFFSETFROM:+0100
TZOFFSETTO:+0200
TZNAME:CEST
DTSTART:20250330T010000
END:DAYLIGHT
BEGIN:STANDARD
TZOFFSETFROM:+0200
TZOFFSETTO:+0100
TZNAME:CET
DTSTART:20251026T010000
END:STANDARD
BEGIN:DAYLIGHT
TZOFFSETFROM:+0100
TZOFFSETTO:+0200
TZNAME:CEST
DTSTART:20260329T010000
END:DAYLIGHT
BEGIN:STANDARD
TZOFFSETFROM:+0200
TZOFFSETTO:+0100
TZNAME:CET
DTSTART:20261025T010000
END:STANDARD
END:VTIMEZONE
BEGIN:VEVENT
DTSTART;TZID=Europe/Oslo:20250304T183000
DTEND;TZID=Europe/Oslo:20250304T213000
DTSTAMP:20260423T045605
CREATED:20250226T065512Z
LAST-MODIFIED:20250226T065512Z
UID:6075-1741113000-1741123800@bofk.no
SUMMARY:Print kveld
DESCRIPTION:
URL:https://bofk.no/event/print-kveld/
CATEGORIES:Klubbkveld
END:VEVENT
BEGIN:VEVENT
DTSTART;TZID=Europe/Oslo:20250307T160000
DTEND;TZID=Europe/Oslo:20250307T220000
DTSTAMP:20260423T045605
CREATED:20250306T134651Z
LAST-MODIFIED:20250306T134651Z
UID:6099-1741363200-1741384800@bofk.no
SUMMARY:Olav-Inge låner studio
DESCRIPTION:
URL:https://bofk.no/event/olav-inge-laner-studio-5/
CATEGORIES:Studio
END:VEVENT
BEGIN:VEVENT
DTSTART;TZID=Europe/Oslo:20250308T160000
DTEND;TZID=Europe/Oslo:20250308T220000
DTSTAMP:20260423T045605
CREATED:20250306T134714Z
LAST-MODIFIED:20250306T134714Z
UID:6101-1741449600-1741471200@bofk.no
SUMMARY:Olav-Inge låner studio
DESCRIPTION:
URL:https://bofk.no/event/olav-inge-laner-studio-6/
CATEGORIES:Studio
END:VEVENT
BEGIN:VEVENT
DTSTART;TZID=Europe/Oslo:20250311T190000
DTEND;TZID=Europe/Oslo:20250311T213000
DTSTAMP:20260423T045605
CREATED:20250213T093329Z
LAST-MODIFIED:20250213T093329Z
UID:6045-1741719600-1741728600@bofk.no
SUMMARY:Medlemsmøte
DESCRIPTION:
URL:https://bofk.no/event/medlemsmote-29/
CATEGORIES:Medlemsmøte
END:VEVENT
BEGIN:VEVENT
DTSTART;TZID=Europe/Oslo:20250322T110000
DTEND;TZID=Europe/Oslo:20250322T180000
DTSTAMP:20260423T045605
CREATED:20250320T115210Z
LAST-MODIFIED:20250320T115210Z
UID:6144-1742641200-1742666400@bofk.no
SUMMARY:Airida låner studio
DESCRIPTION:
URL:https://bofk.no/event/airida-laner-studio-4/
CATEGORIES:Studio
END:VEVENT
END:VCALENDAR