BEGIN:VCALENDAR
VERSION:2.0
PRODID:-//Bodø Fotoklubb - ECPv6.15.19//NONSGML v1.0//EN
CALSCALE:GREGORIAN
METHOD:PUBLISH
X-WR-CALNAME:Bodø Fotoklubb
X-ORIGINAL-URL:https://bofk.no
X-WR-CALDESC:Arrangement for Bodø Fotoklubb
REFRESH-INTERVAL;VALUE=DURATION:PT1H
X-Robots-Tag:noindex
X-PUBLISHED-TTL:PT1H
BEGIN:VTIMEZONE
TZID:Europe/Oslo
BEGIN:DAYLIGHT
TZOFFSETFROM:+0100
TZOFFSETTO:+0200
TZNAME:CEST
DTSTART:20240331T010000
END:DAYLIGHT
BEGIN:STANDARD
TZOFFSETFROM:+0200
TZOFFSETTO:+0100
TZNAME:CET
DTSTART:20241027T010000
END:STANDARD
BEGIN:DAYLIGHT
TZOFFSETFROM:+0100
TZOFFSETTO:+0200
TZNAME:CEST
DTSTART:20250330T010000
END:DAYLIGHT
BEGIN:STANDARD
TZOFFSETFROM:+0200
TZOFFSETTO:+0100
TZNAME:CET
DTSTART:20251026T010000
END:STANDARD
BEGIN:DAYLIGHT
TZOFFSETFROM:+0100
TZOFFSETTO:+0200
TZNAME:CEST
DTSTART:20260329T010000
END:DAYLIGHT
BEGIN:STANDARD
TZOFFSETFROM:+0200
TZOFFSETTO:+0100
TZNAME:CET
DTSTART:20261025T010000
END:STANDARD
END:VTIMEZONE
BEGIN:VEVENT
DTSTART;TZID=Europe/Oslo:20250501T130000
DTEND;TZID=Europe/Oslo:20250501T160000
DTSTAMP:20260423T020205
CREATED:20250422T195030Z
LAST-MODIFIED:20250422T195030Z
UID:6188-1746104400-1746115200@bofk.no
SUMMARY:Airida låner studio
DESCRIPTION:
URL:https://bofk.no/event/airida-laner-studio-6/
CATEGORIES:Studio
END:VEVENT
BEGIN:VEVENT
DTSTART;TZID=Europe/Oslo:20250514T170000
DTEND;TZID=Europe/Oslo:20250514T190000
DTSTAMP:20260423T020205
CREATED:20250513T092815Z
LAST-MODIFIED:20250513T092815Z
UID:6242-1747242000-1747249200@bofk.no
SUMMARY:Angelique låner studio
DESCRIPTION:
URL:https://bofk.no/event/angelique-laner-studio-9/
CATEGORIES:Studio
END:VEVENT
BEGIN:VEVENT
DTSTART;TZID=Europe/Oslo:20250520T190000
DTEND;TZID=Europe/Oslo:20250520T213000
DTSTAMP:20260423T020205
CREATED:20250213T093527Z
LAST-MODIFIED:20250213T093527Z
UID:6051-1747767600-1747776600@bofk.no
SUMMARY:Medlemsmøte
DESCRIPTION:
URL:https://bofk.no/event/medlemsmote-32/
CATEGORIES:Medlemsmøte
END:VEVENT
BEGIN:VEVENT
DTSTART;TZID=Europe/Oslo:20250521T143000
DTEND;TZID=Europe/Oslo:20250521T170000
DTSTAMP:20260423T020205
CREATED:20250521T115643Z
LAST-MODIFIED:20250521T115643Z
UID:6258-1747837800-1747846800@bofk.no
SUMMARY:Jan-Roald låner studio
DESCRIPTION:
URL:https://bofk.no/event/jan-roald-laner-studio-36/
CATEGORIES:Studio
END:VEVENT
BEGIN:VEVENT
DTSTART;TZID=Europe/Oslo:20250524T110000
DTEND;TZID=Europe/Oslo:20250524T190000
DTSTAMP:20260423T020205
CREATED:20250521T193455Z
LAST-MODIFIED:20250522T172351Z
UID:6265-1748084400-1748113200@bofk.no
SUMMARY:Jan-Roals låner studio
DESCRIPTION:
URL:https://bofk.no/event/jan-roals-laner-studio/
CATEGORIES:Studio
END:VEVENT
BEGIN:VEVENT
DTSTART;TZID=Europe/Oslo:20250529T150000
DTEND;TZID=Europe/Oslo:20250529T190000
DTSTAMP:20260423T020205
CREATED:20250528T171934Z
LAST-MODIFIED:20250528T172449Z
UID:6270-1748530800-1748545200@bofk.no
SUMMARY:Ivar låner studio
DESCRIPTION:Klokken 15 – 19
URL:https://bofk.no/event/ivar-laner-studio-5/
CATEGORIES:Studio
END:VEVENT
BEGIN:VEVENT
DTSTART;TZID=Europe/Oslo:20250531T150000
DTEND;TZID=Europe/Oslo:20250531T180000
DTSTAMP:20260423T020205
CREATED:20250410T094155Z
LAST-MODIFIED:20250410T094155Z
UID:6178-1748703600-1748714400@bofk.no
SUMMARY:Rita låner studio
DESCRIPTION:
URL:https://bofk.no/event/rita-laner-studio-4/
CATEGORIES:Studio
END:VEVENT
END:VCALENDAR