BEGIN:VCALENDAR
VERSION:2.0
PRODID:-//Bodø Fotoklubb - ECPv6.15.19//NONSGML v1.0//EN
CALSCALE:GREGORIAN
METHOD:PUBLISH
X-WR-CALNAME:Bodø Fotoklubb
X-ORIGINAL-URL:https://bofk.no
X-WR-CALDESC:Arrangement for Bodø Fotoklubb
REFRESH-INTERVAL;VALUE=DURATION:PT1H
X-Robots-Tag:noindex
X-PUBLISHED-TTL:PT1H
BEGIN:VTIMEZONE
TZID:Europe/Oslo
BEGIN:DAYLIGHT
TZOFFSETFROM:+0100
TZOFFSETTO:+0200
TZNAME:CEST
DTSTART:20240331T010000
END:DAYLIGHT
BEGIN:STANDARD
TZOFFSETFROM:+0200
TZOFFSETTO:+0100
TZNAME:CET
DTSTART:20241027T010000
END:STANDARD
BEGIN:DAYLIGHT
TZOFFSETFROM:+0100
TZOFFSETTO:+0200
TZNAME:CEST
DTSTART:20250330T010000
END:DAYLIGHT
BEGIN:STANDARD
TZOFFSETFROM:+0200
TZOFFSETTO:+0100
TZNAME:CET
DTSTART:20251026T010000
END:STANDARD
BEGIN:DAYLIGHT
TZOFFSETFROM:+0100
TZOFFSETTO:+0200
TZNAME:CEST
DTSTART:20260329T010000
END:DAYLIGHT
BEGIN:STANDARD
TZOFFSETFROM:+0200
TZOFFSETTO:+0100
TZNAME:CET
DTSTART:20261025T010000
END:STANDARD
END:VTIMEZONE
BEGIN:VEVENT
DTSTART;TZID=Europe/Oslo:20250602T143000
DTEND;TZID=Europe/Oslo:20250602T200000
DTSTAMP:20260423T003452
CREATED:20250602T092736Z
LAST-MODIFIED:20250602T092736Z
UID:6272-1748874600-1748894400@bofk.no
SUMMARY:Jan-Roald låner studio
DESCRIPTION:
URL:https://bofk.no/event/jan-roald-laner-studio-37/
CATEGORIES:Studio
END:VEVENT
BEGIN:VEVENT
DTSTART;TZID=Europe/Oslo:20250610T180000
DTEND;TZID=Europe/Oslo:20250610T210000
DTSTAMP:20260423T003452
CREATED:20250213T093639Z
LAST-MODIFIED:20250213T093639Z
UID:6054-1749578400-1749589200@bofk.no
SUMMARY:Sommeravsluttning
DESCRIPTION:
URL:https://bofk.no/event/sommeravsluttning/
CATEGORIES:Medlemsmøte
END:VEVENT
BEGIN:VEVENT
DTSTART;TZID=Europe/Oslo:20250625T190000
DTEND;TZID=Europe/Oslo:20250625T213000
DTSTAMP:20260423T003452
CREATED:20250623T071828Z
LAST-MODIFIED:20250623T071828Z
UID:6282-1750878000-1750887000@bofk.no
SUMMARY:Kaffe & Sjitprat
DESCRIPTION:Da blir det kaffe og sjitprat på onsdag 25 juni.\nOppmøte kl.19.00 på En Kopp i Sjøgata.\nTa med kamera og godt humør. 😀\nPS. Spre det glade budskap med nye/gamle og ikkemedlemmer.\nHer er alle velkommen.
URL:https://bofk.no/event/kaffe-sjitprat/
CATEGORIES:Klubbkveld
END:VEVENT
END:VCALENDAR