BEGIN:VCALENDAR
VERSION:2.0
PRODID:-//Bodø Fotoklubb - ECPv6.15.19//NONSGML v1.0//EN
CALSCALE:GREGORIAN
METHOD:PUBLISH
X-ORIGINAL-URL:https://bofk.no
X-WR-CALDESC:Arrangement for Bodø Fotoklubb
REFRESH-INTERVAL;VALUE=DURATION:PT1H
X-Robots-Tag:noindex
X-PUBLISHED-TTL:PT1H
BEGIN:VTIMEZONE
TZID:Europe/Oslo
BEGIN:DAYLIGHT
TZOFFSETFROM:+0100
TZOFFSETTO:+0200
TZNAME:CEST
DTSTART:20240331T010000
END:DAYLIGHT
BEGIN:STANDARD
TZOFFSETFROM:+0200
TZOFFSETTO:+0100
TZNAME:CET
DTSTART:20241027T010000
END:STANDARD
BEGIN:DAYLIGHT
TZOFFSETFROM:+0100
TZOFFSETTO:+0200
TZNAME:CEST
DTSTART:20250330T010000
END:DAYLIGHT
BEGIN:STANDARD
TZOFFSETFROM:+0200
TZOFFSETTO:+0100
TZNAME:CET
DTSTART:20251026T010000
END:STANDARD
BEGIN:DAYLIGHT
TZOFFSETFROM:+0100
TZOFFSETTO:+0200
TZNAME:CEST
DTSTART:20260329T010000
END:DAYLIGHT
BEGIN:STANDARD
TZOFFSETFROM:+0200
TZOFFSETTO:+0100
TZNAME:CET
DTSTART:20261025T010000
END:STANDARD
END:VTIMEZONE
BEGIN:VEVENT
DTSTART;TZID=Europe/Oslo:20251002T163000
DTEND;TZID=Europe/Oslo:20251002T200000
DTSTAMP:20260422T182213
CREATED:20251001T120609Z
LAST-MODIFIED:20251001T120609Z
UID:6375-1759422600-1759435200@bofk.no
SUMMARY:Jan-Roald låner studio
DESCRIPTION:
URL:https://bofk.no/event/jan-roald-laner-studio-43/
CATEGORIES:Studio
END:VEVENT
BEGIN:VEVENT
DTSTART;TZID=Europe/Oslo:20251003T120000
DTEND;TZID=Europe/Oslo:20251003T140000
DTSTAMP:20260422T182213
CREATED:20251003T080100Z
LAST-MODIFIED:20251003T080100Z
UID:6379-1759492800-1759500000@bofk.no
SUMMARY:Molo-gruppen
DESCRIPTION:
URL:https://bofk.no/event/molo-gruppen/
CATEGORIES:Lån av lokalet
END:VEVENT
BEGIN:VEVENT
DTSTART;TZID=Europe/Oslo:20251005T140000
DTEND;TZID=Europe/Oslo:20251005T190000
DTSTAMP:20260422T182213
CREATED:20250929T193427Z
LAST-MODIFIED:20250929T193427Z
UID:6371-1759672800-1759690800@bofk.no
SUMMARY:Jan-Roald låner studio
DESCRIPTION:
URL:https://bofk.no/event/jan-roald-laner-studio-44/
CATEGORIES:Studio
END:VEVENT
BEGIN:VEVENT
DTSTART;TZID=Europe/Oslo:20251007T180000
DTEND;TZID=Europe/Oslo:20251007T190000
DTSTAMP:20260422T182213
CREATED:20251006T111634Z
LAST-MODIFIED:20251006T111634Z
UID:6381-1759860000-1759863600@bofk.no
SUMMARY:Molo-Gruppen
DESCRIPTION:
URL:https://bofk.no/event/molo-gruppen-2/
CATEGORIES:Lån av lokalet
END:VEVENT
BEGIN:VEVENT
DTSTART;TZID=Europe/Oslo:20251007T190000
DTEND;TZID=Europe/Oslo:20251007T210000
DTSTAMP:20260422T182213
CREATED:20250819T193808Z
LAST-MODIFIED:20250929T095043Z
UID:6298-1759863600-1759870800@bofk.no
SUMMARY:Medlemsmøte
DESCRIPTION:
URL:https://bofk.no/event/medlemsmote-35/
CATEGORIES:Medlemsmøte
END:VEVENT
BEGIN:VEVENT
DTSTART;TZID=Europe/Oslo:20251009T160000
DTEND;TZID=Europe/Oslo:20251009T203000
DTSTAMP:20260422T182213
CREATED:20251001T154944Z
LAST-MODIFIED:20251008T110015Z
UID:6377-1760025600-1760041800@bofk.no
SUMMARY:Jan-Roald låner studio
DESCRIPTION:
URL:https://bofk.no/event/jan-roald-laner-studio-45/
CATEGORIES:Studio
END:VEVENT
BEGIN:VEVENT
DTSTART;TZID=Europe/Oslo:20251014T180000
DTEND;TZID=Europe/Oslo:20251014T203000
DTSTAMP:20260422T182213
CREATED:20251013T100207Z
LAST-MODIFIED:20251013T100207Z
UID:6393-1760464800-1760473800@bofk.no
SUMMARY:Jurykurs.
DESCRIPTION:
URL:https://bofk.no/event/jurykurs-2/
CATEGORIES:Kurs
END:VEVENT
BEGIN:VEVENT
DTSTART;TZID=Europe/Oslo:20251020T163000
DTEND;TZID=Europe/Oslo:20251020T203000
DTSTAMP:20260422T182213
CREATED:20251012T154354Z
LAST-MODIFIED:20251012T154354Z
UID:6391-1760977800-1760992200@bofk.no
SUMMARY:Jan-Roald låner studio
DESCRIPTION:
URL:https://bofk.no/event/jan-roald-laner-studio-47/
CATEGORIES:Studio
END:VEVENT
BEGIN:VEVENT
DTSTART;TZID=Europe/Oslo:20251021T190000
DTEND;TZID=Europe/Oslo:20251021T210000
DTSTAMP:20260422T182213
CREATED:20250819T193835Z
LAST-MODIFIED:20250819T193835Z
UID:6300-1761073200-1761080400@bofk.no
SUMMARY:Medlemsmøte
DESCRIPTION:
URL:https://bofk.no/event/medlemsmote-36/
CATEGORIES:Medlemsmøte
END:VEVENT
BEGIN:VEVENT
DTSTART;TZID=Europe/Oslo:20251022T120000
DTEND;TZID=Europe/Oslo:20251022T150000
DTSTAMP:20260422T182213
CREATED:20251018T173356Z
LAST-MODIFIED:20251018T173356Z
UID:6397-1761134400-1761145200@bofk.no
SUMMARY:Airida låner studio
DESCRIPTION:
URL:https://bofk.no/event/airida-laner-studio-7/
CATEGORIES:Studio
END:VEVENT
BEGIN:VEVENT
DTSTART;TZID=Europe/Oslo:20251025T150000
DTEND;TZID=Europe/Oslo:20251025T200000
DTSTAMP:20260422T182213
CREATED:20251007T212012Z
LAST-MODIFIED:20251007T212012Z
UID:6389-1761404400-1761422400@bofk.no
SUMMARY:Jan-Roald låner studio
DESCRIPTION:
URL:https://bofk.no/event/jan-roald-laner-studio-46/
CATEGORIES:Studio
END:VEVENT
BEGIN:VEVENT
DTSTART;TZID=Europe/Oslo:20251027T173000
DTEND;TZID=Europe/Oslo:20251027T210000
DTSTAMP:20260422T182213
CREATED:20251024T124156Z
LAST-MODIFIED:20251024T124156Z
UID:6412-1761586200-1761598800@bofk.no
SUMMARY:Molo-gruppen
DESCRIPTION:
URL:https://bofk.no/event/molo-gruppen-3/
CATEGORIES:Lån av lokalet
END:VEVENT
END:VCALENDAR