BEGIN:VCALENDAR
VERSION:2.0
PRODID:-//Bodø Fotoklubb - ECPv6.15.19//NONSGML v1.0//EN
CALSCALE:GREGORIAN
METHOD:PUBLISH
X-ORIGINAL-URL:https://bofk.no
X-WR-CALDESC:Arrangement for Bodø Fotoklubb
REFRESH-INTERVAL;VALUE=DURATION:PT1H
X-Robots-Tag:noindex
X-PUBLISHED-TTL:PT1H
BEGIN:VTIMEZONE
TZID:Europe/Oslo
BEGIN:DAYLIGHT
TZOFFSETFROM:+0100
TZOFFSETTO:+0200
TZNAME:CEST
DTSTART:20240331T010000
END:DAYLIGHT
BEGIN:STANDARD
TZOFFSETFROM:+0200
TZOFFSETTO:+0100
TZNAME:CET
DTSTART:20241027T010000
END:STANDARD
BEGIN:DAYLIGHT
TZOFFSETFROM:+0100
TZOFFSETTO:+0200
TZNAME:CEST
DTSTART:20250330T010000
END:DAYLIGHT
BEGIN:STANDARD
TZOFFSETFROM:+0200
TZOFFSETTO:+0100
TZNAME:CET
DTSTART:20251026T010000
END:STANDARD
BEGIN:DAYLIGHT
TZOFFSETFROM:+0100
TZOFFSETTO:+0200
TZNAME:CEST
DTSTART:20260329T010000
END:DAYLIGHT
BEGIN:STANDARD
TZOFFSETFROM:+0200
TZOFFSETTO:+0100
TZNAME:CET
DTSTART:20261025T010000
END:STANDARD
END:VTIMEZONE
BEGIN:VEVENT
DTSTART;TZID=Europe/Oslo:20251102T140000
DTEND;TZID=Europe/Oslo:20251102T200000
DTSTAMP:20260422T170114
CREATED:20251026T163205Z
LAST-MODIFIED:20251026T163205Z
UID:6414-1762092000-1762113600@bofk.no
SUMMARY:Jan-Roald låner studio
DESCRIPTION:
URL:https://bofk.no/event/jan-roald-laner-studio-49/
CATEGORIES:Studio
END:VEVENT
BEGIN:VEVENT
DTSTART;TZID=Europe/Oslo:20251104T180000
DTEND;TZID=Europe/Oslo:20251104T210000
DTSTAMP:20260422T170114
CREATED:20251029T105854Z
LAST-MODIFIED:20251029T105854Z
UID:6419-1762279200-1762290000@bofk.no
SUMMARY:Juryering Eidsvoll Kameraklubb
DESCRIPTION:
URL:https://bofk.no/event/juryering-eidsvoll-kameraklubb/
CATEGORIES:Juryering
END:VEVENT
BEGIN:VEVENT
DTSTART;TZID=Europe/Oslo:20251106T190000
DTEND;TZID=Europe/Oslo:20251106T220000
DTSTAMP:20260422T170114
CREATED:20251031T071951Z
LAST-MODIFIED:20251031T071951Z
UID:6421-1762455600-1762466400@bofk.no
SUMMARY:Damekveld m/foto!
DESCRIPTION:
URL:https://bofk.no/event/damekveld-m-foto/
CATEGORIES:Studio
END:VEVENT
BEGIN:VEVENT
DTSTART;TZID=Europe/Oslo:20251108T100000
DTEND;TZID=Europe/Oslo:20251108T150000
DTSTAMP:20260422T170114
CREATED:20251022T115443Z
LAST-MODIFIED:20251022T115443Z
UID:6408-1762596000-1762614000@bofk.no
SUMMARY:Angelique låner studio
DESCRIPTION:
URL:https://bofk.no/event/angelique-laner-studio-10/
CATEGORIES:Studio
END:VEVENT
BEGIN:VEVENT
DTSTART;TZID=Europe/Oslo:20251109T150000
DTEND;TZID=Europe/Oslo:20251109T200000
DTSTAMP:20260422T170114
CREATED:20251020T211020Z
LAST-MODIFIED:20251020T211020Z
UID:6400-1762700400-1762718400@bofk.no
SUMMARY:Jan-Roald låner studio
DESCRIPTION:
URL:https://bofk.no/event/jan-roald-laner-studio-48/
CATEGORIES:Studio
END:VEVENT
BEGIN:VEVENT
DTSTART;TZID=Europe/Oslo:20251111T190000
DTEND;TZID=Europe/Oslo:20251111T210000
DTSTAMP:20260422T170114
CREATED:20250819T193908Z
LAST-MODIFIED:20250819T193908Z
UID:6302-1762887600-1762894800@bofk.no
SUMMARY:Medlemsmøte
DESCRIPTION:
URL:https://bofk.no/event/medlemsmote-37/
CATEGORIES:Medlemsmøte
END:VEVENT
BEGIN:VEVENT
DTSTART;TZID=Europe/Oslo:20251116T120000
DTEND;TZID=Europe/Oslo:20251116T120000
DTSTAMP:20260422T170114
CREATED:20251115T104718Z
LAST-MODIFIED:20251115T104718Z
UID:6435-1763294400-1763294400@bofk.no
SUMMARY:Christin låner studioet
DESCRIPTION:12:00 – 18:00
URL:https://bofk.no/event/christin-laner-studioet/
END:VEVENT
BEGIN:VEVENT
DTSTART;TZID=Europe/Oslo:20251119T180000
DTEND;TZID=Europe/Oslo:20251119T210000
DTSTAMP:20260422T170114
CREATED:20251106T080439Z
LAST-MODIFIED:20251111T212649Z
UID:6423-1763575200-1763586000@bofk.no
SUMMARY:Jubileumsgruppa låner lokalet
DESCRIPTION:
URL:https://bofk.no/event/grete-laner-lokalet/
CATEGORIES:Lån av lokalet
END:VEVENT
BEGIN:VEVENT
DTSTART;TZID=Europe/Oslo:20251123T100000
DTEND;TZID=Europe/Oslo:20251123T150000
DTSTAMP:20260422T170114
CREATED:20251022T115524Z
LAST-MODIFIED:20251022T115524Z
UID:6410-1763892000-1763910000@bofk.no
SUMMARY:Angelique låner studio
DESCRIPTION:
URL:https://bofk.no/event/angelique-laner-studio-11/
CATEGORIES:Studio
END:VEVENT
BEGIN:VEVENT
DTSTART;TZID=Europe/Oslo:20251123T150000
DTEND;TZID=Europe/Oslo:20251123T210000
DTSTAMP:20260422T170114
CREATED:20251115T105502Z
LAST-MODIFIED:20251116T121540Z
UID:6437-1763910000-1763931600@bofk.no
SUMMARY:Christin låner studioet
DESCRIPTION:Christin låner studioet
URL:https://bofk.no/event/christin-laner-studioet-1500-2100/
END:VEVENT
BEGIN:VEVENT
DTSTART;TZID=Europe/Oslo:20251124T190000
DTEND;TZID=Europe/Oslo:20251124T210000
DTSTAMP:20260422T170114
CREATED:20251122T222340Z
LAST-MODIFIED:20251122T222340Z
UID:6447-1764010800-1764018000@bofk.no
SUMMARY:FIAP møte
DESCRIPTION:
URL:https://bofk.no/event/fiap-mote/
END:VEVENT
BEGIN:VEVENT
DTSTART;TZID=Europe/Oslo:20251126T180000
DTEND;TZID=Europe/Oslo:20251126T210000
DTSTAMP:20260422T170114
CREATED:20251121T124032Z
LAST-MODIFIED:20251121T124032Z
UID:6443-1764180000-1764190800@bofk.no
SUMMARY:Jubileumsgruppa låner lokalet
DESCRIPTION:
URL:https://bofk.no/event/jubileumsgruppa-laner-lokalet/
CATEGORIES:Lån av lokalet
END:VEVENT
BEGIN:VEVENT
DTSTART;TZID=Europe/Oslo:20251127T180000
DTEND;TZID=Europe/Oslo:20251127T230000
DTSTAMP:20260422T170114
CREATED:20251121T184242Z
LAST-MODIFIED:20251121T184242Z
UID:6445-1764266400-1764284400@bofk.no
SUMMARY:Rita låner studio
DESCRIPTION:
URL:https://bofk.no/event/rita-laner-studio-5/
CATEGORIES:Studio
END:VEVENT
BEGIN:VEVENT
DTSTART;TZID=Europe/Oslo:20251129T100000
DTEND;TZID=Europe/Oslo:20251130T170000
DTSTAMP:20260422T170114
CREATED:20250819T194029Z
LAST-MODIFIED:20250819T194029Z
UID:6306-1764410400-1764522000@bofk.no
SUMMARY:Julefotografering i Mørkvedhallen
DESCRIPTION:
URL:https://bofk.no/event/julefotografering-i-morkvedhallen/
CATEGORIES:Julemessen
END:VEVENT
END:VCALENDAR